BEGIN:VCALENDAR
VERSION:2.0
PRODID:-//Plone.org//NONSGML plone.app.event//EN
X-WR-TIMEZONE:America/Maceio
BEGIN:VEVENT
SUMMARY:PALESTRA: ABORDAGEM ODONTOLÓGICA AO PACIENTE COM TRANSTORNO DO ES
 PECTRO AUTISTA
DTSTART;TZID=America/Maceio:20190809T140000
DTEND;TZID=America/Maceio:20190809T160000
DTSTAMP:20260420T175921Z
UID:22d41aa103e8482c9d7838fe31c9b52d@foufal.ufal.br
ATTENDEE;CN=DISCENTES/DOCENTES/PROFISSIONAIS;ROLE=REQ-PARTICIPANT:DISCENTE
 S/DOCENTES/PROFISSIONAIS
CONTACT:https://docs.google.com/forms/d/e/1FAIpQLScnHn8-uqPh2BMiGPOtm2znrs
 4bJQSdYCMHO5Bn9OG9GYA6mA/viewform?vc=0&c=0&w=1
CREATED:20190730T143943Z
LAST-MODIFIED:20191111T132722Z
LOCATION:FOUFAL
URL:https://foufal.ufal.br/institucional/eventos/palestra-abordagem-odonto
 logica-ao-paciente-com-transtorno-do-espectro-autista
END:VEVENT
BEGIN:VTIMEZONE
TZID:America/Maceio
X-LIC-LOCATION:America/Maceio
BEGIN:STANDARD
DTSTART:20020216T230000
TZNAME:-03
TZOFFSETFROM:-0200
TZOFFSETTO:-0300
END:STANDARD
END:VTIMEZONE
END:VCALENDAR
